BEGIN:VCALENDAR
VERSION:2.0
PRODID:-//Fakultas Kedokteran Unsrat
CALSCALE:GREGORIAN
METHOD:PUBLISH
X-WR-CALNAME:Fakultas Kedokteran Unsrat
X-ORIGINAL-URL:https://fk.unsrat.ac.id/event/simposium-workshop-2024/
X-WR-CALDESC:Simposium &#038; Workshop 2024
BEGIN:VEVENT
DTSTART:20240524T000000
DTEND:20240524T000000
SUMMARY:Simposium &#038; Workshop 2024
DESCRIPTION:
LOCATION:
END:VEVENT
END:VCALENDAR
